BEGIN:VCALENDAR
PRODID:-//Calendar export
VERSION:2.0
X-WR-TIMEZONE:Etc/GMT
BEGIN:VTIMEZONE
TZID:GMT Standard Time
BEGIN:STANDARD
TZOFFSETFROM:+0000
TZOFFSETTO:+0000
END:STANDARD
END:VTIMEZONE
BEGIN:VEVENT
UID:AE200
DTSTAMP:20260425T215400Z
SUMMARY:SE Plant Co. Kids DIY Shaker Ornament Workshop
CLASS:PUBLIC
DESCRIPTION:For more information please contact SE Plant Co. at 918-470
 -0690 or sepla
 ntco@gmail.com
STATUS:CONFIRMED
PRIORITY:1
DTSTART:20241217T233000Z
DTEND:20241218T003000Z
TRANSP:OPAQUE
END:VEVENT
END:VCALENDAR
